BEGIN:VCALENDAR
VERSION:2.0
PRODID:-//ChamberMaster//Event Calendar 2.0//EN
METHOD:PUBLISH
X-PUBLISHED-TTL:P3D
REFRESH-INTERVAL:P3D
CALSCALE:GREGORIAN
BEGIN:VEVENT
DTSTART:20190415T000000Z
DTEND:20190415T020000Z
X-MICROSOFT-CDO-ALLDAYEVENT:FALSE
SUMMARY:12 Years a Slave - The World Theatre
DESCRIPTION:In the pre-Civil War United States\, Solomon Northup\, a free black man from upstate New York\, is abducted and sold into slavery. Facing cruelty as well as unexpected kindnesses Solomon struggles not only to stay alive\, but to retain his dignity. In the twelfth year of his unforgettable odyssey\, Solomon's chance meeting with a Canadian abolitionist will forever alter his life.
X-ALT-DESC;FMTTYPE=text/html:In the pre-Civil War United States\, Solomon Northup\, a free black man from upstate New York\, is abducted and sold into slavery. Facing cruelty as well as unexpected kindnesses Solomon struggles not only to stay alive\, but to retain his dignity. In the twelfth year of his unforgettable odyssey\, Solomon&rsquo\;s chance meeting with a Canadian abolitionist will forever alter his life.
LOCATION:The World Theatre 2318 Central Ave Kearney NE 68845
UID:e.1404.15862
SEQUENCE:3
DTSTAMP:20260426T033238Z
URL:https://chambermaster.kearneycoc.org/events/details/12-years-a-slave-the-world-theatre-15862
END:VEVENT

END:VCALENDAR
