BEGIN:VCALENDAR
VERSION:2.0
PRODID:-//ChamberMaster//Event Calendar 2.0//EN
METHOD:PUBLISH
X-PUBLISHED-TTL:P3D
REFRESH-INTERVAL:P3D
CALSCALE:GREGORIAN
BEGIN:VEVENT
DTSTART:20210410T224500Z
DTEND:20210411T023000Z
X-MICROSOFT-CDO-ALLDAYEVENT:FALSE
SUMMARY:14th Annual Treasure Chest Fundraiser Dinner & Auction
DESCRIPTION:Join us for our 14th Annual Treasure Chest Fundraiser held on Saturday\, April 10\, 2021 from 5:45 p.m. to 9:30 p.m. at the Younes Conference Center\, 416 W Talmadge Rd\, Kearney.   \n\n\n\nEnjoy an evening with friends while supporting the Kearney Area Children's Museum and its annual operations\, including educational programming\, exhibit maintenance\, and community outreach efforts.\n\n\n\n"Kearney Area Children's Museum continues to be a valuable asset to our community by offering fun and educational exhibits for children with varying interests and ages\," said Traci Winscot\, Executive Director. "The 14th annual Treasure Chest Fundraiser will provide the museum with funding to help meet the needs of our children in the community in the coming year and beyond."\n\n\n\nThis year's event will be Casino Night-themed\, with a variety of games and opportunities for individuals to help support the museum\, all while in CASUAL ATTIRE (we have an amazing reviews with that perk!). A silent auction\, delicious supper\, and cash bar are also included in the evening's events. (The silent auction items and bidding will be online prior to the event so look for that email on April 7th.) We'll have just as much fun as last year\, if not more!\n\n\n\nGuests can purchase tickets for $60 each or purchase a table of 8 for $440. (Table of 8 instead of 10 this year due to physical distancing.) Please list out the individual(s) names for the tickets.\n\n\n\nTickets must be purchased by Sunday\, April 4th!\n\n\n\n*Event subject to change due to COVID restrictions- please watch our Facebook page for updates. We truly appreciate your support of purchasing tickets as the museum was hit hard financially from the pandemic- each dollar raised means even more to us!
X-ALT-DESC;FMTTYPE=text/html:Join us for our 14th Annual Treasure Chest Fundraiser held on Saturday\, April 10\, 2021 from 5:45 p.m. to 9:30 p.m. at the Younes Conference Center\, 416 W Talmadge Rd\, Kearney.&nbsp\; &nbsp\;<br />\n<br />\nEnjoy an evening with friends while supporting the Kearney Area Children&#39\;s Museum and its annual operations\, including educational programming\, exhibit maintenance\, and community outreach efforts.<br />\n<br />\n&ldquo\;Kearney Area Children&rsquo\;s Museum continues to be a valuable asset to our community by offering fun and educational exhibits for children with varying interests and ages\,&rdquo\; said Traci Winscot\, Executive Director. &ldquo\;The 14th annual Treasure Chest Fundraiser will provide the museum with funding to help meet the needs of our children in the community in the coming year and beyond.&rdquo\;<br />\n<br />\nThis year&rsquo\;s event will be Casino Night-themed\, with a variety of games and opportunities for individuals to help support the museum\, all while in CASUAL ATTIRE (we have an amazing reviews with that perk!). A silent auction\, delicious supper\, and cash bar are also included in the evening&rsquo\;s events. (The silent auction items and bidding will be online prior to the event so look for that email on April 7th.) We&#39\;ll have just as much fun as last year\, if not more!<br />\n<br />\nGuests can purchase tickets for $60 each or purchase a table of 8 for $440. (Table of 8 instead of 10 this year due to physical distancing.) Please list out the individual(s) names for the tickets.<br />\n<br />\nTickets must be purchased by Sunday\, April 4th!<br />\n<br />\n*Event subject to change due to COVID restrictions- please watch our Facebook page for updates. We truly appreciate your support of purchasing tickets as the museum was hit hard financially from the pandemic- each dollar raised means even more to us!&nbsp\;
LOCATION:Younes Conference Center\, 416 W Talmadge Rd\, Kearney
UID:e.1404.19225
SEQUENCE:3
DTSTAMP:20260424T124521Z
URL:https://chambermaster.kearneycoc.org/events/details/14th-annual-treasure-chest-fundraiser-dinner-auction-19225
END:VEVENT

END:VCALENDAR
