BEGIN:VCALENDAR
VERSION:2.0
PRODID:-//ChamberMaster//Event Calendar 2.0//EN
METHOD:PUBLISH
X-PUBLISHED-TTL:P3D
REFRESH-INTERVAL:P3D
CALSCALE:GREGORIAN
BEGIN:VEVENT
DTSTART:20210424T140000Z
DTEND:20210425T033000Z
X-MICROSOFT-CDO-ALLDAYEVENT:FALSE
SUMMARY:19th Annual LPAC Fun 5K
DESCRIPTION:UNK's LPAC is hosting their 19th annual Fun 5K on April 24th! Check-in starts at 8:00 AM and the race begins at 9:00 AM at the UNK Cope Foutain. Early Registration Rate for Community Members: $15 and Day of Registration Rate for Community Members: $20. Early registration ends on April 17th at 12:00 PM. If you would like to register early go to www.unk.edu/funk5k.
X-ALT-DESC;FMTTYPE=text/html:UNK&#39\;s LPAC is hosting their 19th annual Fun 5K on April 24th! Check-in starts at 8:00 AM and the race begins at 9:00 AM at the UNK Cope Foutain. Early Registration Rate for Community Members: $15 and Day of Registration Rate for Community Members: $20. Early registration ends on April 17th at 12:00 PM. If you would like to register early go to www.unk.edu/funk5k.
LOCATION:UNK Cope Fountain\, Kearney\, NE
UID:e.1404.19263
SEQUENCE:3
DTSTAMP:20260424T122204Z
URL:https://chambermaster.kearneycoc.org/events/details/19th-annual-lpac-fun-5k-19263
END:VEVENT

END:VCALENDAR
