BEGIN:VCALENDAR
VERSION:2.0
PRODID:-//ChamberMaster//Event Calendar 2.0//EN
METHOD:PUBLISH
X-PUBLISHED-TTL:P3D
REFRESH-INTERVAL:P3D
CALSCALE:GREGORIAN
BEGIN:VEVENT
DTSTART:20130531T180000Z
DTEND:20130531T220000Z
X-MICROSOFT-CDO-ALLDAYEVENT:FALSE
SUMMARY:1st Annual Good Samaritan Society ? Kearney Championship Series Golf Tournament at Awarii Dunes
DESCRIPTION:What an opportunity! By participating in the this one-of-a-kind tournament you will be supporting life-enriching programs for senior citizens while golfing at Awarii Dunes\, an exclusive golf club that has received rave reviews from all four major national golf publications within months of opening its doors.\n\n	 \n\n	This tournament features exciting tee prizes\, door prizes for all participants and the overall champions in gross and net divisions will advance to Awarii Dunes Scramble Championship in October 2013.\n\n	 \n\n	100% of the proceeds raised will go directly towards the Annual Fund at all three Good Samaritan Society facilities in Kearney.  This fund provides the most modern medical equipment\, facility updates and spiritual enrichment for those who call our centers "home."\n\n	 \n\n	For more information or to register call Charley at 308-865-2650 today!
X-ALT-DESC;FMTTYPE=text/html:<div>\n	What an opportunity! By participating in the this one-of-a-kind tournament you will be supporting life-enriching programs for senior citizens while golfing at Awarii Dunes\, an exclusive golf club that has received rave reviews from all four major national golf publications within months of opening its doors.</div>\n<div>\n	&nbsp\;</div>\n<div>\n	This tournament features exciting tee prizes\, door prizes for all participants and the overall champions in gross and net divisions will advance to Awarii Dunes Scramble Championship in October 2013.</div>\n<div>\n	&nbsp\;</div>\n<div>\n	100% of the proceeds raised will go directly towards the Annual Fund at all three Good Samaritan Society facilities in Kearney. &nbsp\;This fund provides the most modern medical equipment\, facility updates and spiritual enrichment for those who call our centers &ldquo\;home.&rdquo\;</div>\n<div>\n	&nbsp\;</div>\n<div>\n	For more information or to register call Charley at 308-865-2650 today!</div>\n<div>\n	&nbsp\;</div>\n
LOCATION:Awarii Dunes Kearney\, Nebraska
UID:e.1404.2492
SEQUENCE:3
DTSTAMP:20260424T125412Z
URL:https://chambermaster.kearneycoc.org/events/details/1st-annual-good-samaritan-society-kearney-championship-series-golf-tournament-at-awarii-dunes-05-31-2013-2492
END:VEVENT

END:VCALENDAR
