BEGIN:VCALENDAR
VERSION:2.0
PRODID:-//ChamberMaster//Event Calendar 2.0//EN
METHOD:PUBLISH
X-PUBLISHED-TTL:P3D
REFRESH-INTERVAL:P3D
CALSCALE:GREGORIAN
BEGIN:VEVENT
DTSTART:20220715T010000Z
DTEND:20220715T030000Z
X-MICROSOFT-CDO-ALLDAYEVENT:FALSE
SUMMARY:2022 Cruise Nite Concert - Rave On!
DESCRIPTION:Buddy Holly's innovative song writing and singing style inspired a generation of rockers the moment his first hit\, rocked the airwaves in 1957. Rave On! celebrates the music and the man that started it all. Experience all the thrills of the original rock 'n' rollers in this electrifying\, high-energy\, concert extravaganza featuring Billy McGuigan and the Rave On! Band. Tickets are on sale NOW at pickmytickets.com.
X-ALT-DESC;FMTTYPE=text/html:Buddy Holly&rsquo\;s innovative song writing and singing style inspired a generation of rockers the moment his first hit\, rocked the airwaves in 1957. Rave On! celebrates the music and the man that started it all. Experience all the thrills of the original rock &lsquo\;n&rsquo\; rollers in this electrifying\, high-energy\, concert extravaganza featuring Billy McGuigan and the Rave On! Band. Tickets are on sale NOW at pickmytickets.com.
LOCATION:Kearney High School Auditorium 2702 W 11th St Kearney\, NE
UID:e.1404.19747
SEQUENCE:3
DTSTAMP:20260421T134504Z
URL:https://chambermaster.kearneycoc.org/events/details/2022-cruise-nite-concert-rave-on-19747
END:VEVENT

END:VCALENDAR
