BEGIN:VCALENDAR
VERSION:2.0
PRODID:-//ChamberMaster//Event Calendar 2.0//EN
METHOD:PUBLISH
X-PUBLISHED-TTL:P3D
REFRESH-INTERVAL:P3D
CALSCALE:GREGORIAN
BEGIN:VEVENT
DTSTART:20160707T230000Z
DTEND:20160708T030000Z
X-MICROSOFT-CDO-ALLDAYEVENT:FALSE
SUMMARY:24th Street Night Market
DESCRIPTION:Plans are to have the market the first and third Thursday of each month through September. The market will feature 30 vendors\, including food trucks\, arts-and-crafts vendors\, and retail pop-up shops.
X-ALT-DESC;FMTTYPE=text/html:Plans are to have the market the first and third Thursday of each month through September. The market will feature 30 vendors\, including food trucks\, arts-and-crafts vendors\, and retail pop-up shops.
LOCATION:Alley East of 24 Hour Tees 110 W. 24th St. to 24th St. & Central
UID:e.1404.8894
SEQUENCE:3
DTSTAMP:20260421T202525Z
URL:https://chambermaster.kearneycoc.org/events/details/24th-street-night-market-07-07-2016-8894
END:VEVENT

END:VCALENDAR
