BEGIN:VCALENDAR
VERSION:2.0
PRODID:-//ChamberMaster//Event Calendar 2.0//EN
METHOD:PUBLISH
X-PUBLISHED-TTL:P3D
REFRESH-INTERVAL:P3D
CALSCALE:GREGORIAN
BEGIN:VEVENT
DTSTART:20150414T231500Z
DTEND:20150415T020000Z
X-MICROSOFT-CDO-ALLDAYEVENT:FALSE
SUMMARY:25th Annual Freedom Awards Banquet
DESCRIPTION:Doors Open at 6:15 PM\n\n\n\nLocation: Holiday Inn
X-ALT-DESC;FMTTYPE=text/html:Doors Open at 6:15 PM<br />\n<br />\nLocation: Holiday Inn
LOCATION:
UID:e.1404.5981
SEQUENCE:3
DTSTAMP:20260422T200125Z
URL:https://chambermaster.kearneycoc.org/events/details/25th-annual-freedom-awards-banquet-04-14-2015-5981
END:VEVENT

END:VCALENDAR
