BEGIN:VCALENDAR
VERSION:2.0
PRODID:-//ChamberMaster//Event Calendar 2.0//EN
METHOD:PUBLISH
X-PUBLISHED-TTL:P3D
REFRESH-INTERVAL:P3D
CALSCALE:GREGORIAN
BEGIN:VEVENT
DTSTART:20160405T220000Z
DTEND:20160406T003000Z
X-MICROSOFT-CDO-ALLDAYEVENT:FALSE
SUMMARY:2nd Annual Celebrating the Young Child Family Event
DESCRIPTION:Kearney Public Schools Bright Futures and Early Steps are hosting their second annual Celebrating the Young Child family event on April 5 from 5:00-7:30 p.m. We welcome all Kearney families. Please join us for this free event with a free dinner of hamburgers and hotdogs sponsored by Nebraskaland National Bank and fun activities for the children.
X-ALT-DESC;FMTTYPE=text/html:Kearney Public Schools Bright Futures and Early Steps are hosting their second annual Celebrating the Young Child family event on April 5 from 5:00-7:30 p.m. We welcome all Kearney families. Please join us for this free event with a free dinner of hamburgers and hotdogs sponsored by Nebraskaland National Bank and fun activities for the children.
LOCATION:1511 5th Avenue
UID:e.1404.7034
SEQUENCE:3
DTSTAMP:20260422T000039Z
URL:https://chambermaster.kearneycoc.org/events/details/2nd-annual-celebrating-the-young-child-family-event-04-05-2016-7034
END:VEVENT

END:VCALENDAR
