BEGIN:VCALENDAR
VERSION:2.0
PRODID:-//ChamberMaster//Event Calendar 2.0//EN
METHOD:PUBLISH
X-PUBLISHED-TTL:P3D
REFRESH-INTERVAL:P3D
CALSCALE:GREGORIAN
BEGIN:VEVENT
DTSTART:20140503T200000Z
DTEND:20140504T000000Z
X-MICROSOFT-CDO-ALLDAYEVENT:FALSE
SUMMARY:2nd Annual Derby Party
DESCRIPTION:Join us at the Kearney Country Club for the greatest 2 minutes in sports to support the Kearney Area Children's Museum. Tickets are $45\, heavy appetizers and special Derby drinks will be served. Come "bet" on your favorite horse for a chance to win a trip for two to Churchills Down\, Las Vegas\, or a VIP day at Fonner Raceway for you and your 10 closest friends. Go to www.kearneykidzone.com to purchase tickets.
X-ALT-DESC;FMTTYPE=text/html:Join us at the Kearney Country Club for the greatest 2 minutes in sports to support the Kearney Area Children&#39\;s Museum. Tickets are $45\, heavy appetizers and special Derby drinks will be served. Come &quot\;bet&quot\; on your favorite horse for a chance to win a trip for two to Churchills Down\, Las Vegas\, or a VIP day at Fonner Raceway for you and your 10 closest friends. Go to www.kearneykidzone.com to purchase tickets.
LOCATION:Kearney Country Club
UID:e.1404.4698
SEQUENCE:3
DTSTAMP:20260423T145835Z
URL:https://chambermaster.kearneycoc.org/events/details/2nd-annual-derby-party-05-03-2014-4698
END:VEVENT

END:VCALENDAR
