BEGIN:VCALENDAR
VERSION:2.0
PRODID:-//ChamberMaster//Event Calendar 2.0//EN
METHOD:PUBLISH
X-PUBLISHED-TTL:P3D
REFRESH-INTERVAL:P3D
CALSCALE:GREGORIAN
BEGIN:VEVENT
DTSTART:20150704T140000Z
DTEND:20150704T170000Z
X-MICROSOFT-CDO-ALLDAYEVENT:FALSE
SUMMARY:3rd Annual Superhero Dash
DESCRIPTION:Participate in the Superhero Dash- a 3rd annual family fun event on July 4 at the Archway at 9am. Costume contest\, 5k\, 1 mile\, lunch and games. Proceeds benefit struggling families working toward success in the Kearney area.\n\n\n\nFor more information go to Compassnebraska.org/Races or getmeregistered.com/CompassSuperheroDashraces@compassnebraska.org
X-ALT-DESC;FMTTYPE=text/html:<span style="font-family:georgia\,serif\;">Participate in the Superhero Dash- a 3rd annual family fun event on July 4 at the Archway at 9am. Costume contest\, 5k\, 1 mile\, lunch and games. Proceeds benefit struggling families working toward success in the Kearney area.<br />\n<br />\nFor more information go to&nbsp\;</span><span style="color:blue\;"><span style="font-family:georgia\,serif\;"><a href="http://Compassnebraska.org/Races">Compassnebraska.org/Races</a> </span></span><span style="font-family:georgia\,serif\;">or</span><span style="color:blue\;"><span style="font-family:georgia\,serif\;"> <a href="http://getmeregistered.com/CompassSuperheroDash">getmeregistered.com/</a></span></span><span style="color:blue\;"><span style="font-family:georgia\,serif\;"><a href="http://getmeregistered.com/CompassSuperheroDash">CompassSuperheroDash</a></span></span><span style="font-size:12px\;"><span style="color:blue\;"><span style="font-family:georgia\,serif\;"><a href="mailto:races@compassnebraska.org">races</a></span></span></span><span style="font-size:12px\;"><span style="color:blue\;"><span style="font-family:georgia\,serif\;"><a href="mailto:races@compassnebraska.org">@compassnebraska.org</a></span></span></span>
LOCATION:Archway
UID:e.1404.6252
SEQUENCE:3
DTSTAMP:20260422T152122Z
URL:https://chambermaster.kearneycoc.org/events/details/3rd-annual-superhero-dash-07-04-2015-6252
END:VEVENT

END:VCALENDAR
