BEGIN:VCALENDAR
VERSION:2.0
PRODID:-//ChamberMaster//Event Calendar 2.0//EN
METHOD:PUBLISH
X-PUBLISHED-TTL:P3D
REFRESH-INTERVAL:P3D
CALSCALE:GREGORIAN
BEGIN:VEVENT
DTSTART;VALUE=DATE:20130504
DTEND;VALUE=DATE:20130505
TRANSP:TRANSPARENT
X-MICROSOFT-CDO-ALLDAYEVENT:TRUE
SUMMARY:43rd Nebraska Army National Guard Band Concert
DESCRIPTION:The 43rd Army Band of the Nebraska National Guard will be performing at the Fine Arts Building Recital Hall on the University of Nebraska   Kearney Campus. This concert is in conjunction with the Great Plains Regional Tuba-Euphonium Conference\, is free and open to the public and no ticket is required for admission.
X-ALT-DESC;FMTTYPE=text/html:<span style="font-family:comic sans ms\;"><span style="font-size:10.0pt\;">The 43rd Army Band of the Nebraska National Guard will be performing at the Fine Arts Building Recital Hall on the University of Nebraska &ndash\; Kearney Campus.&nbsp\;</span></span><span style="font-family:comic sans ms\;"><span style="font-size:10.0pt\;">This concert is in conjunction with the Great Plains Regional Tuba-Euphonium Conference\, is free and open to the public and no ticket is required for admission. &nbsp\; &nbsp\; &nbsp\; &nbsp\; &nbsp\; &nbsp\;</span></span>
LOCATION:UNK - Fine Arts Building Recital Hall
UID:e.1404.2490
SEQUENCE:3
DTSTAMP:20260424T125128Z
URL:https://chambermaster.kearneycoc.org/events/details/43rd-nebraska-army-national-guard-band-concert-05-04-2013-2490
END:VEVENT

END:VCALENDAR
