BEGIN:VCALENDAR
VERSION:2.0
PRODID:-//ChamberMaster//Event Calendar 2.0//EN
METHOD:PUBLISH
X-PUBLISHED-TTL:P3D
REFRESH-INTERVAL:P3D
CALSCALE:GREGORIAN
BEGIN:VEVENT
DTSTART;VALUE=DATE:20150712
DTEND;VALUE=DATE:20150713
TRANSP:TRANSPARENT
X-MICROSOFT-CDO-ALLDAYEVENT:TRUE
SUMMARY:44th Annual Art in the Park
DESCRIPTION:
X-ALT-DESC;FMTTYPE=text/html:
LOCATION:Harmon Park 3207 7th Ave
UID:e.1404.6472
SEQUENCE:3
DTSTAMP:20260422T151722Z
URL:https://chambermaster.kearneycoc.org/events/details/44th-annual-art-in-the-park-07-12-2015-6472
END:VEVENT

END:VCALENDAR
