BEGIN:VCALENDAR
VERSION:2.0
PRODID:-//ChamberMaster//Event Calendar 2.0//EN
METHOD:PUBLISH
X-PUBLISHED-TTL:P3D
REFRESH-INTERVAL:P3D
CALSCALE:GREGORIAN
BEGIN:VEVENT
DTSTART:20130507T223000Z
DTEND:20130508T020000Z
X-MICROSOFT-CDO-ALLDAYEVENT:FALSE
SUMMARY:4th Annual Loper Football Backers Dinner & Scholarship Fundraiser
DESCRIPTION:4TH ANNUAL LOPER FOOTBALL BACKERS DINNER AND SCHOLARSHIP FUNDRAISER\n\nWHEN:  Tuesday\, May 7th\, 2013 at 5:30 p.m.\n\nWHERE:  Younes Conference Center - Kearney\, NE\n\nGOAL:   Raise scholarship dollars for UNK Football student-athletes\n\nThe University of Nebraska at Kearney Athletic Department entered the MIAA Athletic Conference last fall.  The change in conferences reunited UNK with many old adversaries such as Ft. Hays State\, Washburn\, and Northwest Missouri to name a few.  The change in conferences has brought about the need to raise additional scholarships. The last three years the scholarship event has been a tremendous success with the scholarships being raised through the generosity of others.  Thank you for your consideration.
X-ALT-DESC;FMTTYPE=text/html:<strong>4<sup>TH</sup> ANNUAL LOPER FOOTBALL BACKERS DINNER AND SCHOLARSHIP FUNDRAISER</strong><br />\n<strong>WHEN:</strong>&nbsp\; Tuesday\, May 7<sup>th</sup>\, 2013 at 5:30 p.m.<br />\n<strong>WHERE:</strong>&nbsp\; Younes Conference Center - Kearney\, NE<br />\n<strong>GOAL</strong>:&nbsp\;&nbsp\; Raise scholarship dollars for UNK Football student-athletes<br />\nThe University of Nebraska at Kearney Athletic Department entered the MIAA Athletic Conference last fall.&nbsp\; The change in conferences reunited UNK with many old adversaries such as Ft. Hays State\, Washburn\, and Northwest Missouri to name a few.&nbsp\; The change in conferences has brought about the need to raise additional scholarships. The last three years the scholarship event has been a tremendous success with the scholarships being raised through the generosity of others.&nbsp\; Thank you for your consideration.<br />\n
LOCATION:Younes Conference Center
UID:e.1404.2512
SEQUENCE:3
DTSTAMP:20260424T125133Z
URL:https://chambermaster.kearneycoc.org/events/details/4th-annual-loper-football-backers-dinner-scholarship-fundraiser-05-07-2013-2512
END:VEVENT

END:VCALENDAR
