BEGIN:VCALENDAR
VERSION:2.0
PRODID:-//ChamberMaster//Event Calendar 2.0//EN
METHOD:PUBLISH
X-PUBLISHED-TTL:P3D
REFRESH-INTERVAL:P3D
CALSCALE:GREGORIAN
BEGIN:VEVENT
DTSTART;VALUE=DATE:20151026
DTEND;VALUE=DATE:20151027
TRANSP:TRANSPARENT
X-MICROSOFT-CDO-ALLDAYEVENT:TRUE
SUMMARY:5th Annual Central Nebraska Business Idea Contest
DESCRIPTION:Got a big idea? You could win $1\,000! Record a 2-minute video of you pitching your business idea and upload it to YouTube.com.  Email the URL to Aliese Hoffman at hoffmanal2@unk.edu. This is open to anyone 13 or older with a new business idea. The deadline is quickly approaching\, all entries must be submitted by Monday\, October 26\, 2015 at 5pm.\n\n\n\nAll videos submitted by the deadline will be evaluated and the top 10 ideas will be asked to participate in a short Q&A session in Kearney at Cunningham's Journal on Wednesday\, November 18th at 7pm. For more information on where and how to submit your video go to the CRRD-UNK website unk.edu/crrd.\n\n\n\nAll entrants and the public are invited to join us to watch the presentations and to mingle with other entrepreneurs\, investors\, designers\, and creatives!
X-ALT-DESC;FMTTYPE=text/html:Got a big idea? You could win $1\,000! Record a 2-minute video of you pitching your business idea and upload it to YouTube.com. &nbsp\;Email the URL to Aliese Hoffman at <a href="mailto:hoffmanal2@unk.edu">hoffmanal2@unk.edu</a>. This is open to anyone 13 or older with a new business idea. The deadline is quickly approaching\, all entries must be submitted by Monday\, October 26\, 2015 at 5pm.<br />\n<br />\nAll videos submitted by the deadline will be evaluated and the top 10 ideas will be asked to participate in a short Q&amp\;A session in Kearney at Cunningham&#39\;s Journal on Wednesday\, November 18th at 7pm.&nbsp\;<span style="line-height: 20.8px\;">For more information on where and how to submit your video go to the&nbsp\;</span>CRRD-UNK<span style="line-height: 20.8px\;">&nbsp\;website&nbsp\;</span><a href="http://unk.edu/crrd" style="line-height: 20.8px\;">unk.edu/crrd</a>.<br />\n<br />\n<span style="line-height: 20.8px\;">All entrants and the public are invited to join us to watch the presentations and to mingle with other entrepreneurs\, investors\, designers\, and creatives!</span>
LOCATION:
UID:e.1404.7026
SEQUENCE:3
DTSTAMP:20260422T100914Z
URL:https://chambermaster.kearneycoc.org/events/details/5th-annual-central-nebraska-business-idea-contest-10-26-2015-7026
END:VEVENT

END:VCALENDAR
