BEGIN:VCALENDAR
VERSION:2.0
PRODID:-//ChamberMaster//Event Calendar 2.0//EN
METHOD:PUBLISH
X-PUBLISHED-TTL:P3D
REFRESH-INTERVAL:P3D
CALSCALE:GREGORIAN
BEGIN:VEVENT
DTSTART:20210911T140000Z
DTEND:20210911T220000Z
X-MICROSOFT-CDO-ALLDAYEVENT:FALSE
SUMMARY:9/11 First Responders Recognition Event
DESCRIPTION:First responders deserve recognition every day.  They put their lives on the line\, sacrifice for the greater good\, and commit themselves to protect others.  The Kearney Area Chamber of Commerce and Pinon Market would like to give them a little extra something as a heartfelt "Thank You".   Any First Responders who stop by Pinon Market on Saturday\, September 11th from 9 a.m. to 5 p.m. can receive a free breakfast burrito or churro.
X-ALT-DESC;FMTTYPE=text/html:First responders deserve recognition every day.&nbsp\; They put their lives on the line\, sacrifice for the greater good\, and commit themselves to protect others.&nbsp\; The Kearney Area Chamber of Commerce and Pinon Market would like to give them a little extra something as a heartfelt &quot\;Thank You&quot\;.&nbsp\; &nbsp\;Any First Responders who stop by Pinon Market on Saturday\, September 11th from 9 a.m. to 5 p.m. can receive a free breakfast burrito or churro.&nbsp\; &nbsp\;
LOCATION:Pinon Market 527 E. 25th Street Kearney NE 68845
UID:e.1404.19385
SEQUENCE:3
DTSTAMP:20260424T021201Z
URL:https://chambermaster.kearneycoc.org/events/details/9-11-first-responders-recognition-event-19385
END:VEVENT

END:VCALENDAR
