BEGIN:VCALENDAR
VERSION:2.0
PRODID:-//ChamberMaster//Event Calendar 2.0//EN
METHOD:PUBLISH
X-PUBLISHED-TTL:P3D
REFRESH-INTERVAL:P3D
CALSCALE:GREGORIAN
BEGIN:VEVENT
DTSTART:20151127T173000Z
DTEND:20151128T030000Z
X-MICROSOFT-CDO-ALLDAYEVENT:FALSE
SUMMARY:A Century of Lights
DESCRIPTION:Bring your family to the Century of Lights celebration with a full day of activities including: \n\n	    Pictures with Santa and Mrs. Claus at the Minden Opera House: 11:30am - 1pm\n	Free movie at the Minden Opera House: 1:30pm\n	Children's carnival at Windmill Hall: 3 - 5pm\n	Jim Salestrom concert at the Minden Opera House: 8pm\n\nJoin us downtown on the square at 5:30pm for:\n\n\n	Crowning of Miss Christmas City\n	Official lighting ceremony\n	Lighted parade\n\nLights and Ice! From Nov. 27 to Dec. 12\, dust off your ice skates and join us downtown on the square for our newest Christmas attraction: the Minden Ice Rink. In honor of the 100-year milestone\, we have exiting events and promotions planned - see you on the ice! Skates available at the rink.\n\n\n\nVisit MindenNE.org to view a full schedule of events from Thanksgiving weekend to New Year's Eve.
X-ALT-DESC;FMTTYPE=text/html:Bring your family to the Century of Lights celebration with a full day of activities including:&nbsp\;\n<ul>\n	<li>&nbsp\; &nbsp\; Pictures with Santa and Mrs. Claus at the Minden Opera&nbsp\;House:&nbsp\;11:30am&nbsp\;- 1pm</li>\n	<li>Free movie at the Minden Opera House: 1:30pm</li>\n	<li>Children&#39\;s carnival at Windmill Hall: 3 -&nbsp\;5pm</li>\n	<li>Jim Salestrom&nbsp\;concert at the Minden Opera House: 8pm</li>\n</ul>\nJoin us downtown on the square at 5:30pm for:\n\n<ul>\n	<li>Crowning of Miss Christmas City</li>\n	<li>Official lighting ceremony</li>\n	<li>Lighted parade</li>\n</ul>\nLights and Ice! From Nov. 27 to Dec. 12\, dust off your ice skates and join us downtown on the square for our newest Christmas attraction: the Minden Ice Rink. In honor of the 100-year milestone\, we have exiting events and promotions planned - see you on the ice! <em>Skates available at the rink.</em><br />\n<br />\nVisit MindenNE.org to view a full schedule of events from Thanksgiving weekend to New Year&#39\;s Eve.
LOCATION:322 E 5th St. Minden\, NE
UID:e.1404.7001
SEQUENCE:3
DTSTAMP:20260422T083826Z
URL:https://chambermaster.kearneycoc.org/events/details/a-century-of-lights-11-27-2015-7001
END:VEVENT

END:VCALENDAR
