BEGIN:VCALENDAR
VERSION:2.0
PRODID:-//ChamberMaster//Event Calendar 2.0//EN
METHOD:PUBLISH
X-PUBLISHED-TTL:P3D
REFRESH-INTERVAL:P3D
CALSCALE:GREGORIAN
BEGIN:VEVENT
DTSTART:20151027T133000Z
DTEND:20151027T163000Z
X-MICROSOFT-CDO-ALLDAYEVENT:FALSE
SUMMARY:"A Passion for Service" by Bill Drury\, Chamber YOUniversity Training
DESCRIPTION:"A Passion For Service"\n\nWhy do so many companies put more emphasis on attracting new customers than keeping the ones they already have?\n\nFACT: 7 out of 10 customers who stop doing business with a company do so because of the way they were treated on the first contact.\n\n\n\nFACT: 96% of unhappy customers never complain about discourtesy\, but 91% of them will not buy again from a business that offended them.\n\n\n\nFACT: According to the National Retail Association\, a 5% increase in customer retention can increase long term profitability by as much as 85%. \n\n\n\nFACT: Courting new business can cost up to five times more than strengthening relationships with current clients.\n\nIn this workshop\, you'll discover secrets and acquire skills to improve your level of service. Remember\, paychecks come from your customers\, not accounting\, payroll\, or "the boss". Learn how to keep the satisfied customer back for more. And how to turn tough situations into future sales opportunities.\n\nBill Drury is a customer service expert. He is on a mission to help businesses create winning teams and lifetime loyal customers. He researches\, writes\, speaks\, and travels extensively. Since beginning his professional speaking career with the Zig Ziglar Corporation\, he has given over 2000 keynotes\, workshops or presentations. Bill has proven to be one of the most effective and entertaining speakers in the industry. He is noted for his humorous and enthusiastic presentations. He is someone who believes learning must be fun to be productive. His presentation will enhance your organization's ability to compete in the rapidly changing business world of today. Visit Bill Drury's website to learn more.
X-ALT-DESC;FMTTYPE=text/html:<strong><span style="font-size:14px\;">&quot\;A Passion For Service&quot\;</span></strong>\n\n<p style="margin: 0px 0px 18px\; padding: 0px\; border: 0px\; font-family: HelveticaNeueW01-55Roma\; font-size: 18px\; line-height: 24px\; vertical-align: baseline\; color: rgb(34\, 34\, 34)\; background-color: rgb(255\, 255\, 255)\;"><span style="font-size:14px\;"><span style="font-family:arial\;">Why do so many companies put more emphasis on attracting new customers than keeping the ones they already have?</span></span></p>\n\n<p style="margin: 0px 0px 18px\; padding: 0px\; border: 0px\; font-family: HelveticaNeueW01-55Roma\; font-size: 18px\; line-height: 24px\; vertical-align: baseline\; color: rgb(34\, 34\, 34)\; background-color: rgb(255\, 255\, 255)\;"><span style="font-size:14px\;"><span style="font-family:arial\;">FACT:&nbsp\;7 out of 10 customers who stop doing business with a company do so because of the way they were treated on the first contact.<br style="line-height: normal\;" />\n<br style="line-height: normal\;" />\nFACT:&nbsp\;96% of unhappy customers never complain about discourtesy\, but 91% of them will not buy again from a business that offended them.<br style="line-height: normal\;" />\n<br style="line-height: normal\;" />\nFACT:&nbsp\;According to the National Retail Association\, a 5% increase in customer retention can increase long term profitability by as much as 85%.&nbsp\;<br style="line-height: normal\;" />\n<br style="line-height: normal\;" />\nFACT:&nbsp\;Courting new business can cost up to five times more than strengthening relationships with current clients.<br style="line-height: normal\;" />\nIn this workshop\, you&rsquo\;ll discover secrets and acquire skills to improve your level of service. Remember\, paychecks come from your customers\, not accounting\, payroll\, or &ldquo\;the boss&rdquo\;. Learn how to keep the satisfied customer back for more. And how to turn tough situations into future sales opportunities.</span></span></p>\n\n<p style="margin: 0px 0px 18px\; padding: 0px\; border: 0px\; font-family: HelveticaNeueW01-55Roma\; font-size: 18px\; line-height: 24px\; vertical-align: baseline\; color: rgb(34\, 34\, 34)\; background-color: rgb(255\, 255\, 255)\;"><span style="font-size:14px\;"><span style="font-family:arial\;">Bill Drury&nbsp\;is a customer service expert. He is on a mission to help businesses create winning teams and lifetime loyal customers. He researches\, writes\, speaks\, and travels extensively. Since beginning his professional speaking career with the Zig Ziglar Corporation\, he has given over 2000 keynotes\, workshops or presentations. Bill has proven to be one of the most effective and entertaining speakers in the industry. He is noted for his humorous and enthusiastic presentations. He is someone who believes learning must be fun to be productive. His presentation will enhance your organization&#39\;s ability to compete in the rapidly changing business world of today. Visit Bill Drury&#39\;s <a href="http://www.billdrury.com/">website</a> to learn more.</span></span></p>\n
LOCATION:Ramada Inn 301 2nd Ave Kearney NE
UID:e.1404.6194
SEQUENCE:3
DTSTAMP:20260422T104245Z
URL:https://chambermaster.kearneycoc.org/events/details/a-passion-for-service-by-bill-drury-chamber-youniversity-training-10-27-2015-6194
END:VEVENT

END:VCALENDAR
