BEGIN:VCALENDAR
VERSION:2.0
PRODID:-//ChamberMaster//Event Calendar 2.0//EN
METHOD:PUBLISH
X-PUBLISHED-TTL:P3D
REFRESH-INTERVAL:P3D
CALSCALE:GREGORIAN
BEGIN:VEVENT
DTSTART:20190921T220000Z
DTEND:20190922T030000Z
X-MICROSOFT-CDO-ALLDAYEVENT:FALSE
SUMMARY:A River Runs Through It
DESCRIPTION:We hope you can make it for A River Runs Through It\, a benefit and live auction.
X-ALT-DESC;FMTTYPE=text/html:We hope you can make it for A River Runs Through It\, a benefit and live auction.&nbsp\;
LOCATION:Rowe Sanctuary 44450 Elm Island Rd Gibbon NE 68840
UID:e.1404.17886
SEQUENCE:3
DTSTAMP:20260425T194708Z
URL:https://chambermaster.kearneycoc.org/events/details/a-river-runs-through-it-09-21-2019-17886
END:VEVENT

END:VCALENDAR
