BEGIN:VCALENDAR
VERSION:2.0
PRODID:-//ChamberMaster//Event Calendar 2.0//EN
METHOD:PUBLISH
X-PUBLISHED-TTL:P3D
REFRESH-INTERVAL:P3D
CALSCALE:GREGORIAN
BEGIN:VEVENT
DTSTART:20220715T000000Z
DTEND:20220715T043000Z
X-MICROSOFT-CDO-ALLDAYEVENT:FALSE
SUMMARY:Aaron Lewis and the Stateliners
DESCRIPTION:Aaron Lewis and the Stateliners\, Thursday\, July 14th\, Viaero Center\, Kearney\, Nebraska
X-ALT-DESC;FMTTYPE=text/html:Aaron Lewis and the Stateliners\, Thursday\, July 14th\, Viaero Center\, Kearney\, Nebraska
LOCATION:Viaero Center\, Kearney\, Nebraska
UID:e.1404.19755
SEQUENCE:3
DTSTAMP:20260421T132605Z
URL:https://chambermaster.kearneycoc.org/events/details/aaron-lewis-and-the-stateliners-19755
END:VEVENT

END:VCALENDAR
