BEGIN:VCALENDAR
VERSION:2.0
PRODID:-//ChamberMaster//Event Calendar 2.0//EN
METHOD:PUBLISH
X-PUBLISHED-TTL:P3D
REFRESH-INTERVAL:P3D
CALSCALE:GREGORIAN
BEGIN:VEVENT
DTSTART:20191216T010000Z
DTEND:20191216T030000Z
X-MICROSOFT-CDO-ALLDAYEVENT:FALSE
SUMMARY:Advent Concert
DESCRIPTION:Please join us for a FREE concert! This is a perfect opportunity to pray in song during this Advent season with good company. Dr. David Bauer will direct a free community concert with the Platte River Children's Chorale and the Platte River Singers.
X-ALT-DESC;FMTTYPE=text/html:Please join us for a FREE concert! This is a perfect opportunity to pray in song during this Advent season with good company. Dr. David Bauer will direct a free community concert with the Platte River Children&#39\;s Chorale and the Platte River Singers.&nbsp\;
LOCATION:Prince of Peace Catholic Church 2407 W 56th St.
UID:e.1404.18274
SEQUENCE:3
DTSTAMP:20260425T145910Z
URL:https://chambermaster.kearneycoc.org/events/details/advent-concert-18274
END:VEVENT

END:VCALENDAR
