BEGIN:VCALENDAR
VERSION:2.0
PRODID:-//ChamberMaster//Event Calendar 2.0//EN
METHOD:PUBLISH
X-PUBLISHED-TTL:P3D
REFRESH-INTERVAL:P3D
CALSCALE:GREGORIAN
BEGIN:VEVENT
DTSTART:20160721T140000Z
DTEND:20160721T160000Z
X-MICROSOFT-CDO-ALLDAYEVENT:FALSE
SUMMARY:Ag Appreciation Morning Break
DESCRIPTION:Help support & promote the 4-H Livestock Auction! Meet with members of the Ag committee\, 4-H Auction committee\, 4-H families & participants & the members of the Kearney Chamber of Commerce. Learn more about the NEW Buffalo County 4-H Livestock Auction Booster Club!
X-ALT-DESC;FMTTYPE=text/html:<span style="line-height: 20.8px\;">Help support &amp\; promote the 4-H Livestock Auction! Meet with members of the Ag committee\, 4-H Auction committee\, 4-H families &amp\; participants &amp\; the members of the Kearney Chamber of Commerce. Learn more about the NEW Buffalo County 4-H Livestock Auction Booster Club!</span>
LOCATION:Kearney Chamber of Commerce Parking Lot
UID:e.1404.8784
SEQUENCE:3
DTSTAMP:20260421T185236Z
URL:https://chambermaster.kearneycoc.org/events/details/ag-appreciation-morning-break-07-21-2016-8784
END:VEVENT

END:VCALENDAR
