BEGIN:VCALENDAR
VERSION:2.0
PRODID:-//ChamberMaster//Event Calendar 2.0//EN
METHOD:PUBLISH
X-PUBLISHED-TTL:P3D
REFRESH-INTERVAL:P3D
CALSCALE:GREGORIAN
BEGIN:VEVENT
DTSTART:20140308T000000Z
DTEND:20140308T030000Z
X-MICROSOFT-CDO-ALLDAYEVENT:FALSE
SUMMARY:Ag Appreciation Night - Storm Hockey
DESCRIPTION:It's Ag Appreciation Night. All ag-related businesses and producers are\n\ninvited to attend. Plus\, enjoy a special pre-game event at 6:00pm with\n\ncomplimentary beer\, soda and snacks courtesy of LandMark Implement!\n\n$4 of each sold ticket will be donated back to the Kearney Chamber Ag-\n\nScholarship fund. Enjoy a fun event and support a great cause!\n\n\n\nTo purchase tickets\, simply download the form here and e-mail or mail to kyle@stormhockey.com or call (308) 338-8011.  You can also call the chamber at (308) 237-4671 or lmeans@kearneycoc.org.
X-ALT-DESC;FMTTYPE=text/html:<p style="margin: 0in 0in 0pt\;">It&rsquo\;s Ag Appreciation Night. All&nbsp\;ag-related&nbsp\;businesses and producers are</p>\n\n<div>invited to attend. Plus\, enjoy a special pre-game event at 6:00pm&nbsp\;with</div>\n\n<div>complimentary beer\, soda and snacks courtesy of&nbsp\;LandMark&nbsp\;Implement!</div>\n\n<div>$4 of each sold ticket will be donated back to the Kearney Chamber Ag-</div>\n\n<div>Scholarship fund. Enjoy a fun event and support a great cause!<br />\n<br />\nTo purchase tickets\, simply <a href="http://cloud.chambermaster.com/userfiles/UserFiles/chambers/1404/File/AgAppreciation-StormHockey.pdf">download the form here</a> and e-mail or mail to kyle@stormhockey.com or call (308) 338-8011. &nbsp\;You can also call the chamber at (308) 237-4671 or lmeans@kearneycoc.org. &nbsp\;</div>\n
LOCATION:Viaero Event Center 609 Platte Rd. Kearney
UID:e.1404.4485
SEQUENCE:3
DTSTAMP:20260423T195550Z
URL:https://chambermaster.kearneycoc.org/events/details/ag-appreciation-night-storm-hockey-03-07-2014-4485
END:VEVENT

END:VCALENDAR
