BEGIN:VCALENDAR
VERSION:2.0
PRODID:-//ChamberMaster//Event Calendar 2.0//EN
METHOD:PUBLISH
X-PUBLISHED-TTL:P3D
REFRESH-INTERVAL:P3D
CALSCALE:GREGORIAN
BEGIN:VEVENT
DTSTART:20140114T180000Z
DTEND:20140114T190000Z
X-MICROSOFT-CDO-ALLDAYEVENT:FALSE
SUMMARY:Ag Committee
DESCRIPTION:Agriculture Committee Meeting Reminder\nTuesday\, January 14 from noon-1\n\nKearney Area Chamber of Commerce Board Room\n\nPlease bring your own lunch\n\nWe will discuss plans for our March Storm Hockey fundraiser\, choose a new chair and vice chair and more!\n\n\n\nChair: Loralea Frank\, Greenwall\, Bruner & Frank\n\nMeeting Schedule: Quarterly\n\n\n\nThe Agriculture Committee's purpose is to provide and support programs which promote agriculture and encourage urban/rural cooperation.\n\n\n\nSome of the programs the Agriculture Committee is currently tied to are the Nebraska Cattlemen's Classic\, Gateway Farm Expo\, Buffalo County 4-H\, Nebraska Livestock Judging Classic as well as educational meetings.\n\n\n\nThis committee is open to all Kearney Chamber Members as well as all ag producers in the area. To inquire about joining this group\, contact Leslie Means at lmeans@kearneycoc.org or join us for one of our meetings.\n\n	Other Partners in our Agriculture Team include Gateway Farm Expo\, Nebraska Cattlemen's Classic and 4-H Auction Committee.
X-ALT-DESC;FMTTYPE=text/html:<h3 style="color: rgb(0\, 0\, 0)\; font-family: Helvetica\, Arial\, sans-serif\;">\n	Agriculture Committee Meeting Reminder</h3>\nTuesday\, January 14 from noon-1<br />\nKearney Area Chamber of Commerce Board Room<br />\nPlease bring your own lunch<br />\nWe will discuss plans for our March Storm Hockey fundraiser\, choose a new chair and vice chair and more!<br />\n<br />\n<b style="color: rgb(0\, 0\, 0)\; font-family: Helvetica\, Arial\, sans-serif\;">Chair:</b><span style="color: rgb(0\, 0\, 0)\; font-family: Helvetica\, Arial\, sans-serif\;">&nbsp\;Loralea Frank\, Greenwall\, Bruner &amp\; Frank</span><br style="color: rgb(0\, 0\, 0)\; font-family: Helvetica\, Arial\, sans-serif\;" />\n<b style="color: rgb(0\, 0\, 0)\; font-family: Helvetica\, Arial\, sans-serif\;">Meeting Schedule:</b><span style="color: rgb(0\, 0\, 0)\; font-family: Helvetica\, Arial\, sans-serif\;">&nbsp\;Quarterly</span><br style="color: rgb(0\, 0\, 0)\; font-family: Helvetica\, Arial\, sans-serif\;" />\n<br style="color: rgb(0\, 0\, 0)\; font-family: Helvetica\, Arial\, sans-serif\;" />\n<span style="color: rgb(0\, 0\, 0)\; font-family: Helvetica\, Arial\, sans-serif\;">The Agriculture Committee&rsquo\;s purpose is to provide and support programs which promote agriculture and encourage urban/rural cooperation.</span><br style="color: rgb(0\, 0\, 0)\; font-family: Helvetica\, Arial\, sans-serif\;" />\n<br style="color: rgb(0\, 0\, 0)\; font-family: Helvetica\, Arial\, sans-serif\;" />\n<span style="color: rgb(0\, 0\, 0)\; font-family: Helvetica\, Arial\, sans-serif\;">Some of the programs the Agriculture Committee is currently tied to are the Nebraska Cattlemen&rsquo\;s Classic\, Gateway Farm Expo\, Buffalo County 4-H\, Nebraska Livestock Judging Classic as well as educational meetings.</span><br style="color: rgb(0\, 0\, 0)\; font-family: Helvetica\, Arial\, sans-serif\;" />\n<br style="color: rgb(0\, 0\, 0)\; font-family: Helvetica\, Arial\, sans-serif\;" />\n<span style="color: rgb(0\, 0\, 0)\; font-family: Helvetica\, Arial\, sans-serif\;">This committee is open to all Kearney Chamber Members as well as all ag producers in the area. To inquire about joining this group\, contact&nbsp\;Leslie Means&nbsp\;at&nbsp\;</span><a href="mailto:lmeans@kearneycoc.org" style="text-decoration: none\; color: rgb(0\, 51\, 102)\; font-family: Helvetica\, Arial\, sans-serif\;">lmeans@kearneycoc.org</a><span style="color: rgb(0\, 0\, 0)\; font-family: Helvetica\, Arial\, sans-serif\;">&nbsp\;or join us for one of our meetings.</span>\n<p style="color: rgb(0\, 0\, 0)\; font-family: Helvetica\, Arial\, sans-serif\;">\n	Other Partners in our Agriculture Team include Gateway Farm Expo\, Nebraska Cattlemen&rsquo\;s Classic and 4-H Auction Committee.</p>\n
LOCATION:Kearney Area Chamber of Commerce
UID:e.1404.4345
SEQUENCE:3
DTSTAMP:20260423T213501Z
URL:https://chambermaster.kearneycoc.org/events/details/ag-committee-01-14-2014-4345
END:VEVENT

END:VCALENDAR
