BEGIN:VCALENDAR
VERSION:2.0
PRODID:-//ChamberMaster//Event Calendar 2.0//EN
METHOD:PUBLISH
X-PUBLISHED-TTL:P3D
REFRESH-INTERVAL:P3D
CALSCALE:GREGORIAN
BEGIN:VEVENT
DTSTART:20140211T180000Z
DTEND:20140211T190000Z
X-MICROSOFT-CDO-ALLDAYEVENT:FALSE
SUMMARY:Ag Committee Meeting
DESCRIPTION:Free Lunch will be provided by State Bank of Riverdale.  Ronette Heinrich will discuss the Cattlemens Classic.  We will also have an update on the upcoming Ag scholarship fundraiser being held on March 7 at the Storm Hockey Game.  Please RSVP for lunch!
X-ALT-DESC;FMTTYPE=text/html:Free Lunch will be provided by State Bank of Riverdale. &nbsp\;Ronette&nbsp\;Heinrich will discuss the Cattlemens Classic. &nbsp\;We will also have an update on the upcoming Ag scholarship fundraiser being held on March 7 at the Storm Hockey Game. &nbsp\;Please RSVP for lunch!<br />\n<br />\n
LOCATION:Kearney Area Chamber of Commerce Board Room
UID:e.1404.4434
SEQUENCE:3
DTSTAMP:20260423T195619Z
URL:https://chambermaster.kearneycoc.org/events/details/ag-committee-meeting-02-11-2014-4434
END:VEVENT

END:VCALENDAR
