BEGIN:VCALENDAR
VERSION:2.0
PRODID:-//ChamberMaster//Event Calendar 2.0//EN
METHOD:PUBLISH
X-PUBLISHED-TTL:P3D
REFRESH-INTERVAL:P3D
CALSCALE:GREGORIAN
BEGIN:VEVENT
DTSTART:20200206T180000Z
DTEND:20200206T190000Z
X-MICROSOFT-CDO-ALLDAYEVENT:FALSE
SUMMARY:Ag Committee meeting
DESCRIPTION:Chair: Mat Cope\, Cope Ag Services\n\n\n\nThe Agriculture Committee's purpose is to provide and support programs which promote agriculture and encourage urban/rural cooperation.\n\n\n\nSome of the programs the Agriculture Committee is currently tied to are the Nebraska Cattlemen's Classic\, Gateway Farm Expo\, Buffalo County 4-H\, Nebraska Livestock Judging Classic as well as educational meetings.\n\n\n\nThis committee is open to all Kearney Area Chamber Members. To inquire about joining this group\, contact Amy Cope at acope@kearneycoc.org or join us for one of our meetings.\n\n\n\nOther Partners in our Agriculture Team include Gateway Farm Expo\, Nebraska Cattlemen's Classic and 4-H Auction Committee.
X-ALT-DESC;FMTTYPE=text/html:<span style="background:white\;"><span style="color:#333333\;"><span style="font-family:arial\,sans-serif\;"><span style="font-size:10.5pt\;">Chair: Mat Cope\, Cope Ag Services</span></span></span></span><br style="font-variant-ligatures:normal\;font-variant-caps:normal\;orphans:2\;text-align:start\;widows:2\;-webkit-text-stroke-width:0px\;text-decoration-style:initial\;word-spacing:0px\;" />\n<br style="font-variant-ligatures:normal\;font-variant-caps:normal\;orphans:2\;text-align:start\;widows:2\;-webkit-text-stroke-width:0px\;text-decoration-style:initial\;word-spacing:0px\;" />\n<span style="background:white\;"><span style="color:#222222\;"><span style="font-family:arial\,sans-serif\;"><span style="font-size:10.5pt\;"><span style="font-variant-ligatures:normal\;font-variant-caps:normal\;orphans:2\;text-align:start\;widows:2\;-webkit-text-stroke-width:0px\;text-decoration-style:initial\;word-spacing:0px\;">The Agriculture Committee&#39\;s purpose is to provide and support programs which promote agriculture and encourage urban/rural cooperation.</span></span></span></span></span><br style="font-variant-ligatures:normal\;font-variant-caps:normal\;orphans:2\;text-align:start\;widows:2\;-webkit-text-stroke-width:0px\;text-decoration-style:initial\;word-spacing:0px\;" />\n<br style="font-variant-ligatures:normal\;font-variant-caps:normal\;orphans:2\;text-align:start\;widows:2\;-webkit-text-stroke-width:0px\;text-decoration-style:initial\;word-spacing:0px\;" />\n<span style="background:white\;"><span style="color:#222222\;"><span style="font-family:arial\,sans-serif\;"><span style="font-size:10.5pt\;"><span style="font-variant-ligatures:normal\;font-variant-caps:normal\;orphans:2\;text-align:start\;widows:2\;-webkit-text-stroke-width:0px\;text-decoration-style:initial\;word-spacing:0px\;">Some of the programs the Agriculture Committee is currently tied to are the Nebraska Cattlemen&#39\;s Classic\, Gateway Farm Expo\, Buffalo County 4-H\, Nebraska Livestock Judging Classic as well as educational meetings.</span></span></span></span></span><br style="font-variant-ligatures:normal\;font-variant-caps:normal\;orphans:2\;text-align:start\;widows:2\;-webkit-text-stroke-width:0px\;text-decoration-style:initial\;word-spacing:0px\;" />\n<br style="font-variant-ligatures:normal\;font-variant-caps:normal\;orphans:2\;text-align:start\;widows:2\;-webkit-text-stroke-width:0px\;text-decoration-style:initial\;word-spacing:0px\;" />\n<span style="background:white\;"><span style="color:#222222\;"><span style="font-family:arial\,sans-serif\;"><span style="font-size:10.5pt\;"><span style="font-variant-ligatures:normal\;font-variant-caps:normal\;orphans:2\;text-align:start\;widows:2\;-webkit-text-stroke-width:0px\;text-decoration-style:initial\;word-spacing:0px\;">This committee is open to all Kearney Area Chamber Members. To inquire about joining this group\, contact Amy Cope at <a href="mailto:acope@kearneycoc.org">acope@kearneycoc.org</a></span></span></span></span></span><span style="background:white\;"><span style="color:#222222\;"><span style="font-family:arial\,sans-serif\;"><span style="font-size:10.5pt\;"><span style="font-variant-ligatures:normal\;font-variant-caps:normal\;orphans:2\;text-align:start\;widows:2\;-webkit-text-stroke-width:0px\;text-decoration-style:initial\;word-spacing:0px\;">&nbsp\;or join us for one of our meetings.</span></span></span></span></span><br style="font-variant-ligatures:normal\;font-variant-caps:normal\;orphans:2\;text-align:start\;widows:2\;-webkit-text-stroke-width:0px\;text-decoration-style:initial\;word-spacing:0px\;" />\n<br style="font-variant-ligatures:normal\;font-variant-caps:normal\;orphans:2\;text-align:start\;widows:2\;-webkit-text-stroke-width:0px\;text-decoration-style:initial\;word-spacing:0px\;" />\n<span style="background:white\;"><span style="color:#222222\;"><span style="font-family:arial\,sans-serif\;"><span style="font-size:10.5pt\;"><span style="font-variant-ligatures:normal\;font-variant-caps:normal\;orphans:2\;text-align:start\;widows:2\;-webkit-text-stroke-width:0px\;text-decoration-style:initial\;word-spacing:0px\;">Other Partners in our Agriculture Team include Gateway Farm Expo\, Nebraska Cattlemen&#39\;s Classic and 4-H Auction Committee.</span></span></span></span></span>
LOCATION:Chamber of Commerce Meeting Room 1007 2nd Ave
UID:e.1404.18310
SEQUENCE:3
DTSTAMP:20260425T113253Z
URL:https://chambermaster.kearneycoc.org/events/details/ag-committee-meeting-18310
END:VEVENT

END:VCALENDAR
