BEGIN:VCALENDAR
VERSION:2.0
PRODID:-//ChamberMaster//Event Calendar 2.0//EN
METHOD:PUBLISH
X-PUBLISHED-TTL:P3D
REFRESH-INTERVAL:P3D
CALSCALE:GREGORIAN
BEGIN:VEVENT
DTSTART:20161020T170000Z
DTEND:20161020T180000Z
X-MICROSOFT-CDO-ALLDAYEVENT:FALSE
SUMMARY:Ag Committee Meeting
DESCRIPTION:The Agriculture Committee's purpose is to provide and support programs which promote agriculture and encourage urban/rural cooperation.  They hold various fundraisers throughout the year to support their Agriculture scholarship which is awarded to a local senior in High School.  They also host activities to recognize Agriculture in the community.
X-ALT-DESC;FMTTYPE=text/html:<span style="language:en-US\;"><span style="font-family:helvetica lt\;">The Agriculture Committee&rsquo\;s purpose is to provide and support programs which promote agriculture and encourage urban/rural cooperation.&nbsp\; They hold various fundraisers throughout the year to support their Agriculture scholarship which is awarded to a local senior in High School.&nbsp\; They also host activities to recognize Agriculture in the community. </span></span><span style="language:en-US\;"><span style="font-family:helvetica lt\;">&nbsp\;</span></span><br />\n&nbsp\;
LOCATION:Kearney Area Chamber of Commerce 1007 2nd Avenue
UID:e.1404.9040
SEQUENCE:3
DTSTAMP:20260421T140151Z
URL:https://chambermaster.kearneycoc.org/events/details/ag-committee-meeting-9040
END:VEVENT

END:VCALENDAR
