BEGIN:VCALENDAR
VERSION:2.0
PRODID:-//ChamberMaster//Event Calendar 2.0//EN
METHOD:PUBLISH
X-PUBLISHED-TTL:P3D
REFRESH-INTERVAL:P3D
CALSCALE:GREGORIAN
BEGIN:VEVENT
DTSTART:20190430T223000Z
DTEND:20190501T003000Z
X-MICROSOFT-CDO-ALLDAYEVENT:FALSE
SUMMARY:Ag Committee Social
DESCRIPTION:Join the Chamber's Ag Committee for a social at Cunningham's!
X-ALT-DESC;FMTTYPE=text/html:Join the Chamber&#39\;s Ag Committee for a social at Cunningham&#39\;s!
LOCATION:Cunningham's on the Bricks\, upstairs 15 W 23rd St.
UID:e.1404.15658
SEQUENCE:3
DTSTAMP:20260426T032643Z
URL:https://chambermaster.kearneycoc.org/events/details/ag-committee-social-15658
END:VEVENT

END:VCALENDAR
