BEGIN:VCALENDAR
VERSION:2.0
PRODID:-//ChamberMaster//Event Calendar 2.0//EN
METHOD:PUBLISH
X-PUBLISHED-TTL:P3D
REFRESH-INTERVAL:P3D
CALSCALE:GREGORIAN
BEGIN:VEVENT
DTSTART:20140903T210000Z
DTEND:20140903T220000Z
X-MICROSOFT-CDO-ALLDAYEVENT:FALSE
SUMMARY:Ag Committee Tour - Ward Laboratories
DESCRIPTION:Agriculture Committee will tour Ward Laboratories. Following the tour we'll meet at Fanatics for drinks. (Drinks not provided).
X-ALT-DESC;FMTTYPE=text/html:Agriculture Committee will tour Ward Laboratories. Following the tour we&#39\;ll meet at Fanatics for drinks. (Drinks not provided).&nbsp\;
LOCATION:Ward Laboratories 4007 Cherry Ave Kearney NE 68847 Fanatics 2021 Central Ave Kearney NE 68847
UID:e.1404.5303
SEQUENCE:3
DTSTAMP:20260423T090021Z
URL:https://chambermaster.kearneycoc.org/events/details/ag-committee-tour-ward-laboratories-09-03-2014-5303
END:VEVENT

END:VCALENDAR
