BEGIN:VCALENDAR
VERSION:2.0
PRODID:-//ChamberMaster//Event Calendar 2.0//EN
METHOD:PUBLISH
X-PUBLISHED-TTL:P3D
REFRESH-INTERVAL:P3D
CALSCALE:GREGORIAN
BEGIN:VEVENT
DTSTART:20210625T230000Z
DTEND:20210626T013000Z
X-MICROSOFT-CDO-ALLDAYEVENT:FALSE
SUMMARY:Alzheimer's Longest Day Concert with OK Sisters
DESCRIPTION:Annual Alzheimer's Longest Day EVENT...This year featuring the OK SISTERS in CONCERT at Harmon Park. June 25 at 6PM - 8:30 Food and Beverages provided with FREE WILL DONATIONS. Proceeds go to location support\, education and to Research. Alzheimer's Disease is the most costly Disease in America with over 6 million people living with this disease today...with no cure...life expectancy after diagnosis 4 -7 yrs. There is NO CURE ...we advocate for one!
X-ALT-DESC;FMTTYPE=text/html:Annual Alzheimer&#39\;s Longest Day EVENT...This year featuring the OK SISTERS in CONCERT at Harmon Park. June 25 at 6PM - 8:30 Food and Beverages provided with FREE WILL DONATIONS. Proceeds go to location support\, education and to Research. Alzheimer&#39\;s Disease is the most costly Disease in America with over 6 million people living with this disease today...with no cure...life expectancy after diagnosis 4 -7 yrs. There is NO CURE ...we advocate for one!
LOCATION:HARMON PARK Kearney\, NE
UID:e.1404.19325
SEQUENCE:3
DTSTAMP:20260424T081713Z
URL:https://chambermaster.kearneycoc.org/events/details/alzheimer-s-longest-day-concert-with-ok-sisters-19325
END:VEVENT

END:VCALENDAR
