BEGIN:VCALENDAR
VERSION:2.0
PRODID:-//ChamberMaster//Event Calendar 2.0//EN
METHOD:PUBLISH
X-PUBLISHED-TTL:P3D
REFRESH-INTERVAL:P3D
CALSCALE:GREGORIAN
BEGIN:VEVENT
DTSTART;VALUE=DATE:20151204
DTEND;VALUE=DATE:20151207
TRANSP:TRANSPARENT
X-MICROSOFT-CDO-ALLDAYEVENT:TRUE
SUMMARY:Amahl & The Night Visitors
DESCRIPTION:
X-ALT-DESC;FMTTYPE=text/html:
LOCATION:Minden Opera House 322 E. 5th St. Minden\, NE
UID:e.1404.7047
SEQUENCE:3
DTSTAMP:20260422T064800Z
URL:https://chambermaster.kearneycoc.org/events/details/amahl-the-night-visitors-12-04-2015-7047
END:VEVENT

END:VCALENDAR
