BEGIN:VCALENDAR
VERSION:2.0
PRODID:-//ChamberMaster//Event Calendar 2.0//EN
METHOD:PUBLISH
X-PUBLISHED-TTL:P3D
REFRESH-INTERVAL:P3D
CALSCALE:GREGORIAN
BEGIN:VEVENT
DTSTART;VALUE=DATE:20151211
DTEND;VALUE=DATE:20151214
TRANSP:TRANSPARENT
X-MICROSOFT-CDO-ALLDAYEVENT:TRUE
SUMMARY:Amahl & The Night Visitors
DESCRIPTION:
X-ALT-DESC;FMTTYPE=text/html:
LOCATION:Minden Opera House 322 E. 5th St. Minden\, NE
UID:e.1404.7048
SEQUENCE:3
DTSTAMP:20260422T064822Z
URL:https://chambermaster.kearneycoc.org/events/details/amahl-the-night-visitors-12-11-2015-7048
END:VEVENT

END:VCALENDAR
