BEGIN:VCALENDAR
VERSION:2.0
PRODID:-//ChamberMaster//Event Calendar 2.0//EN
METHOD:PUBLISH
X-PUBLISHED-TTL:P3D
REFRESH-INTERVAL:P3D
CALSCALE:GREGORIAN
BEGIN:VEVENT
DTSTART:20210919T170000Z
DTEND:20210919T173000Z
X-MICROSOFT-CDO-ALLDAYEVENT:FALSE
SUMMARY:American Red Cross Volunteer Virtual Fair 2021
DESCRIPTION:Volunteer Services Recruitment Team with the American Red Cross will relaunch the Volunteer Virtual Fair every third Thursday from Noon to 12:30 p.m. on Zoom. This month the fair is Thursday\, Aug. 19\, 2021. The fair is open to anyone interested in knowing more about the Red Cross and discover some great volunteer opportunities that we need in the Nebraska-Iowa Region. Your volunteer recruiters will be your hosts. The first volunteer fair will include information from our Disaster Team about Bootcamp in-person trainings during a weekend where new and existing volunteers will complete training and be ready to put on the Red Cross red vest. Please join us and share our fair link with family\, friends\, work colleagues\, civic group members\, church members . . . essentially your network. Volunteers are the lifeblood of the NEIA region workforce. Join us to make sure our workforce is the absolute best to carry out the Red Cross mission.
X-ALT-DESC;FMTTYPE=text/html:Volunteer Services Recruitment Team with the American Red Cross will relaunch the Volunteer Virtual Fair every third Thursday from Noon to 12:30 p.m. on Zoom. This month the fair is Thursday\, Aug. 19\, 2021. The fair is open to anyone interested in knowing more about the Red Cross and discover some great volunteer opportunities that we need in the Nebraska-Iowa Region. Your volunteer recruiters will be your hosts. The first volunteer fair will include information from our Disaster Team about Bootcamp in-person trainings during a weekend where new and existing volunteers will complete training and be ready to put on the Red Cross red vest. Please join us and share our fair link with family\, friends\, work colleagues\, civic group members\, church members . . . essentially your network. Volunteers are the lifeblood of the NEIA region workforce. Join us to make sure our workforce is the absolute best to carry out the Red Cross mission.
LOCATION:Virtual/ Online
UID:e.1404.19371
SEQUENCE:3
DTSTAMP:20260424T021502Z
URL:https://chambermaster.kearneycoc.org/events/details/american-red-cross-volunteer-virtual-fair-2021-19371
END:VEVENT

END:VCALENDAR
