BEGIN:VCALENDAR
VERSION:2.0
PRODID:-//ChamberMaster//Event Calendar 2.0//EN
METHOD:PUBLISH
X-PUBLISHED-TTL:P3D
REFRESH-INTERVAL:P3D
CALSCALE:GREGORIAN
BEGIN:VEVENT
DTSTART:20190420T000000Z
DTEND:20190420T021500Z
X-MICROSOFT-CDO-ALLDAYEVENT:FALSE
SUMMARY:An Evening With George Winston
DESCRIPTION:Celebrated American pianist George Winston has inspired fans and musicians alike with his singular solo acoustic piano songs for more than 40 years while selling 15 million albums. Winston just release a new album "Restless Wind" is a portrayal of Winston's place in a chaotic world   his compositions extend solace with an idiosyncratic grace.
X-ALT-DESC;FMTTYPE=text/html:Celebrated American pianist George Winston has inspired fans and musicians alike with his singular solo acoustic piano songs for more than 40 years while selling 15 million albums. Winston just release a new album &quot\;Restless Wind&quot\; is a portrayal of Winston&rsquo\;s place in a chaotic world &ndash\; his compositions extend solace with an idiosyncratic grace.
LOCATION:Merryman Performing Arts Center
UID:e.1404.15656
SEQUENCE:3
DTSTAMP:20260426T032606Z
URL:https://chambermaster.kearneycoc.org/events/details/an-evening-with-george-winston-15656
END:VEVENT

END:VCALENDAR
