BEGIN:VCALENDAR
VERSION:2.0
PRODID:-//ChamberMaster//Event Calendar 2.0//EN
METHOD:PUBLISH
X-PUBLISHED-TTL:P3D
REFRESH-INTERVAL:P3D
CALSCALE:GREGORIAN
BEGIN:VEVENT
DTSTART:20190427T003000Z
DTEND:20190427T023000Z
X-MICROSOFT-CDO-ALLDAYEVENT:FALSE
SUMMARY:Apollo 11 - The World Theatre
DESCRIPTION:A look at the Apollo 11 mission to land on the moon led by commander Neil Armstrong and pilot Buzz Aldrin. Never-before-seen footage and audio recordings take you straight into the heart of NASA's most celebrated mission as astronauts Neil Armstrong and Buzz Aldrin embark on a historic trip to the moon.
X-ALT-DESC;FMTTYPE=text/html:A look at the Apollo 11 mission to land on the moon led by commander Neil Armstrong and pilot Buzz Aldrin. Never-before-seen footage and audio recordings take you straight into the heart of NASA&#39\;s most celebrated mission as astronauts Neil Armstrong and Buzz Aldrin embark on a historic trip to the moon.
LOCATION:The World Theatre 2318 Central Ave Kearney NE 68847
UID:e.1404.15866
SEQUENCE:3
DTSTAMP:20260426T033239Z
URL:https://chambermaster.kearneycoc.org/events/details/apollo-11-the-world-theatre-15866
END:VEVENT

END:VCALENDAR
