BEGIN:VCALENDAR
VERSION:2.0
PRODID:-//ChamberMaster//Event Calendar 2.0//EN
METHOD:PUBLISH
X-PUBLISHED-TTL:P3D
REFRESH-INTERVAL:P3D
CALSCALE:GREGORIAN
BEGIN:VEVENT
DTSTART:20160417T180000Z
DTEND:20160417T220000Z
X-MICROSOFT-CDO-ALLDAYEVENT:FALSE
SUMMARY:Arc of Buffalo County Road Rally
DESCRIPTION:
X-ALT-DESC;FMTTYPE=text/html:
LOCATION:Classic Car Collection 3600 Hwy 30
UID:e.1404.7022
SEQUENCE:3
DTSTAMP:20260422T013924Z
URL:https://chambermaster.kearneycoc.org/events/details/arc-of-buffalo-county-road-rally-04-17-2016-7022
END:VEVENT

END:VCALENDAR
