BEGIN:VCALENDAR
VERSION:2.0
PRODID:-//ChamberMaster//Event Calendar 2.0//EN
METHOD:PUBLISH
X-PUBLISHED-TTL:P3D
REFRESH-INTERVAL:P3D
CALSCALE:GREGORIAN
BEGIN:VEVENT
DTSTART;VALUE=DATE:20121004
DTEND;VALUE=DATE:20121015
TRANSP:TRANSPARENT
X-MICROSOFT-CDO-ALLDAYEVENT:TRUE
SUMMARY:"Arsenic and Old Lace"
DESCRIPTION:Keaerney Community Theater Presents the classic murder mnystery comedy\n\n"Arsenic and Old Lace"\n\nOctober 4\, 5\, 6\, 11\, 12\, 13\, and 14 (Matinee)\n\n\n\nTickets on Sale September 24 for\n\nTheater Only and Dinner Theater
X-ALT-DESC;FMTTYPE=text/html:Keaerney Community Theater Presents the classic murder mnystery comedy<br />\n&quot\;Arsenic and Old Lace&quot\;<br />\nOctober 4\, 5\, 6\, 11\, 12\, 13\, and 14 (Matinee)<br />\n<br />\nTickets on Sale September 24 for<br />\nTheater Only and Dinner Theater
LOCATION:Kearney Community Theater 83 Plaza Boulevard
UID:e.1404.2191
SEQUENCE:3
DTSTAMP:20260425T002158Z
URL:https://chambermaster.kearneycoc.org/events/details/arsenic-and-old-lace-10-04-2012-2191
END:VEVENT

END:VCALENDAR
