BEGIN:VCALENDAR
VERSION:2.0
PRODID:-//ChamberMaster//Event Calendar 2.0//EN
METHOD:PUBLISH
X-PUBLISHED-TTL:P3D
REFRESH-INTERVAL:P3D
CALSCALE:GREGORIAN
BEGIN:VEVENT
DTSTART:20130309T160000Z
DTEND:20130309T210000Z
X-MICROSOFT-CDO-ALLDAYEVENT:FALSE
SUMMARY:Art & Crafts Fair
DESCRIPTION:First Lutheran Church is excited to host this Arts and Crafts fundraiser for Nebraska Lutheran Campus Ministries!\n\n	10% of vendor proceeds go toward supporting Nebraska Lutheran Campus Ministries at UNK.\n\n	Come and enjoy the gifts and talents of local artists!\n\n	If interested in displaying and selling your work\, download the registration form here!\nDISCOUNTED EARLY BIRD REGISTRATION DUE FEB. 8th\, 2013\n\nRegular Registration Due March 4th\, 2013\n\nThe Nebraska Lutheran Campus Ministries Arts & Crafts Fair is a fundraiser for the Campus Lutheran Student\n\nMinistries at the University of Nebraska\, Kearney. In addition to the registration fee\, we ask for 10% of vendor sales. All proceeds from this fundraiser will go toward the support of these programs.\n\nEARLY BIRD REGISTRATION FEE DEADLINE FEBRUARY 8\, 2013: $25\n\nREGULAR REGISTRATION FEE DEADLINE MARCH 4\, 2013: $40\n\nFee includes an 8 foot display table and 2 chairs. Vendor is responsible for all skirting\, tablecloths\, and decoration.
X-ALT-DESC;FMTTYPE=text/html:<p align="center" class="style38">\n	First Lutheran Church is excited to host this Arts and Crafts fundraiser for Nebraska Lutheran Campus Ministries!<br />\n	10% of vendor proceeds go toward supporting Nebraska Lutheran Campus Ministries at UNK.</p>\n<p align="center" class="style40">\n	Come and enjoy the gifts and talents of local artists!</p>\n<p align="center" class="style44">\n	If interested in displaying and selling your work\, download the <a href="http://www.firstlutherankearney.org/ArtsFairRegistrationForm2013.pdf" target="_blank">registration form here</a>!</p>\n<strong>DISCOUNTED EARLY BIRD REGISTRATION DUE FEB. 8th\, 2013</strong><br />\n<span class="style44">Regular Registration Due March 4th\, 2013<br />\nThe Nebraska Lutheran Campus Ministries Arts &amp\; Crafts Fair is a fundraiser for the Campus Lutheran Student<br />\nMinistries at the University of Nebraska\, Kearney. In addition to the registration fee\, we ask for 10% of vendor sales. All proceeds from this fundraiser will go toward the support of these programs.<br />\nEARLY BIRD REGISTRATION FEE DEADLINE FEBRUARY 8\, 2013: $25<br />\nREGULAR REGISTRATION FEE DEADLINE MARCH 4\, 2013: $40<br />\nFee includes an 8 foot display table and 2 chairs. Vendor is responsible for all skirting\, tablecloths\, and decoration.</span>
LOCATION:First Lutheran Church\; 3315 G Avenue\; Kearney\, NE 68847
UID:e.1404.2240
SEQUENCE:3
DTSTAMP:20260424T155809Z
URL:https://chambermaster.kearneycoc.org/events/details/art-crafts-fair-03-09-2013-2240
END:VEVENT

END:VCALENDAR
