BEGIN:VCALENDAR
VERSION:2.0
PRODID:-//ChamberMaster//Event Calendar 2.0//EN
METHOD:PUBLISH
X-PUBLISHED-TTL:P3D
REFRESH-INTERVAL:P3D
CALSCALE:GREGORIAN
BEGIN:VEVENT
DTSTART:20130714T140000Z
DTEND:20130714T220000Z
X-MICROSOFT-CDO-ALLDAYEVENT:FALSE
SUMMARY:Art in the Park
DESCRIPTION:70 plus talented artists from around the Midwest. Live music and food vendor. Held at Harmon Park. For more information visitwww.kearneyartistguild.com.
X-ALT-DESC;FMTTYPE=text/html:<span id="ctl00_cntBody_spanDataBody" style="color: rgb(0\, 0\, 0)\; font-family: Arial\, Helvetica\, sans-serif\;">70 plus talented artists from around the Midwest. Live music and food vendor. Held at Harmon Park. For more information visit<a href="http://www.kearneyartistsguild.com/" style="color: rgb(102\, 153\, 153)\;" target="_blank">www.kearneyartistguild.com</a>.&nbsp\;</span>
LOCATION:Harmon Park
UID:e.1404.3250
SEQUENCE:3
DTSTAMP:20260424T081305Z
URL:https://chambermaster.kearneycoc.org/events/details/art-in-the-park-07-14-2013-3250
END:VEVENT

END:VCALENDAR
