BEGIN:VCALENDAR
VERSION:2.0
PRODID:-//ChamberMaster//Event Calendar 2.0//EN
METHOD:PUBLISH
X-PUBLISHED-TTL:P3D
REFRESH-INTERVAL:P3D
CALSCALE:GREGORIAN
BEGIN:VEVENT
DTSTART;VALUE=DATE:20130315
DTEND;VALUE=DATE:20130316
TRANSP:TRANSPARENT
X-MICROSOFT-CDO-ALLDAYEVENT:TRUE
SUMMARY:Associated Staffing/Chamber Day At the Races
DESCRIPTION:It's a yearly favorite here at the Kearney Area Chamber of Commerce.  Join your fellow Chamber members and staff for Chamber Day At The Races\, hosted by Associated Staffing at Fonner Park in Grand Island.  We will depart Kearney at 1:00 PM on Friday\, March 15th and return in the evening.  Please call ahead to carpool and we will try to accommodate you as well as possible.\n\n\n\nPlease RSVP ahead of time to jjelden@kearneycoc.org to reserve your ticket
X-ALT-DESC;FMTTYPE=text/html:It&#39\;s a yearly favorite here at the Kearney Area Chamber of Commerce. &nbsp\;Join your fellow Chamber members and staff for Chamber Day At The Races\, hosted by Associated Staffing at Fonner Park in Grand Island. &nbsp\;We will depart Kearney at 1:00 PM on Friday\, March 15th and return in the evening. &nbsp\;Please call ahead to carpool and we will try to accommodate you as well as possible.<br />\n<br />\nPlease RSVP ahead of time to jjelden@kearneycoc.org to reserve your ticket
LOCATION:Departing the Kearney Chamber parking lot at 1:00 PM
UID:e.1404.2250
SEQUENCE:3
DTSTAMP:20260424T160025Z
URL:https://chambermaster.kearneycoc.org/events/details/associated-staffing-chamber-day-at-the-races-03-15-2013-2250
END:VEVENT

END:VCALENDAR
