BEGIN:VCALENDAR
VERSION:2.0
PRODID:-//ChamberMaster//Event Calendar 2.0//EN
METHOD:PUBLISH
X-PUBLISHED-TTL:P3D
REFRESH-INTERVAL:P3D
CALSCALE:GREGORIAN
BEGIN:VEVENT
DTSTART;VALUE=DATE:20190801
DTEND;VALUE=DATE:20190815
TRANSP:TRANSPARENT
X-MICROSOFT-CDO-ALLDAYEVENT:TRUE
SUMMARY:Back to School Shop & Save on the Bricks
DESCRIPTION:Hit the Bricks for Downtown Kearney's first ever Back to School Shop & Save event from Thursday\, August 1st through Wednesday\, August 14th for a chance to win a $100 Downtown Kearney gift certificate. All you have to do is submit a copy of your receipt here: https://bmlavene.wufoo.com/forms/w17o2y0p1q11izx/. It can be e-mailed to bricks@downtownkearney.com too. An entry is required for each receipt. The winner will be announced on Thursday\, August 15th. Happy shopping!
X-ALT-DESC;FMTTYPE=text/html:Hit the Bricks for Downtown Kearney&#39\;s first ever Back to School Shop &amp\; Save event from Thursday\, August 1st through Wednesday\, August 14th for a chance to win a $100 Downtown Kearney gift certificate. All you have to do is submit a copy of your receipt here: https://bmlavene.wufoo.com/forms/w17o2y0p1q11izx/. It can be e-mailed to bricks@downtownkearney.com too. An entry is required for each receipt. The winner will be announced on Thursday\, August 15th. Happy shopping!
LOCATION:Downtown Kearney
UID:e.1404.16588
SEQUENCE:3
DTSTAMP:20260425T213200Z
URL:https://chambermaster.kearneycoc.org/events/details/back-to-school-shop-save-on-the-bricks-16588
END:VEVENT

END:VCALENDAR
