BEGIN:VCALENDAR
VERSION:2.0
PRODID:-//ChamberMaster//Event Calendar 2.0//EN
METHOD:PUBLISH
X-PUBLISHED-TTL:P3D
REFRESH-INTERVAL:P3D
CALSCALE:GREGORIAN
BEGIN:VEVENT
DTSTART:20141104T233000Z
DTEND:20141105T013000Z
X-MICROSOFT-CDO-ALLDAYEVENT:FALSE
SUMMARY:BAH: Alia Arram Children's Museum/Leadership Kearney
DESCRIPTION:Please join us for food and drinks in celebration of our 25th Anniversary!\n\nCo-hosted by Leadership Kearney.We will be having a fun scavenger hunt with prizes too!
X-ALT-DESC;FMTTYPE=text/html:Please join us for food and drinks in celebration of our 25<sup>th</sup> Anniversary!<br />\nCo-hosted by Leadership Kearney.We will be having a fun scavenger hunt with prizes too!&nbsp\;
LOCATION:Alia Arram Children's Museum 5827 4th Ave
UID:e.1404.5170
SEQUENCE:3
DTSTAMP:20260423T070244Z
URL:https://chambermaster.kearneycoc.org/events/details/bah-alia-arram-children-s-museum-leadership-kearney-11-04-2014-5170
END:VEVENT

END:VCALENDAR
