BEGIN:VCALENDAR
VERSION:2.0
PRODID:-//ChamberMaster//Event Calendar 2.0//EN
METHOD:PUBLISH
X-PUBLISHED-TTL:P3D
REFRESH-INTERVAL:P3D
CALSCALE:GREGORIAN
BEGIN:VEVENT
DTSTART:20160519T210000Z
DTEND:20160519T230000Z
X-MICROSOFT-CDO-ALLDAYEVENT:FALSE
SUMMARY:BAH: All Makes Office Interiors
DESCRIPTION:Going to be a fun night out at All Makes Office Interiors! Come check out the showroom and see what's new! Enjoy food and beverages from The Cellar! Win tickets to this weekends Wine & Jazz Festival! Don't miss it!
X-ALT-DESC;FMTTYPE=text/html:Going to be a fun night out at All Makes Office Interiors! Come check out the showroom and see what&#39\;s new! Enjoy food and beverages from The Cellar! Win tickets to this weekends Wine &amp\; Jazz Festival! Don&#39\;t miss it!
LOCATION:3715 29th Ave Ste C
UID:e.1404.7032
SEQUENCE:3
DTSTAMP:20260421T215638Z
URL:https://chambermaster.kearneycoc.org/events/details/bah-all-makes-office-interiors-05-19-2016-7032
END:VEVENT

END:VCALENDAR
