BEGIN:VCALENDAR
VERSION:2.0
PRODID:-//ChamberMaster//Event Calendar 2.0//EN
METHOD:PUBLISH
X-PUBLISHED-TTL:P3D
REFRESH-INTERVAL:P3D
CALSCALE:GREGORIAN
BEGIN:VEVENT
DTSTART:20130321T220000Z
DTEND:20130322T000000Z
X-MICROSOFT-CDO-ALLDAYEVENT:FALSE
SUMMARY:BAH: AmericInn & Carlos O'Kellys
DESCRIPTION:Join us for Business After Hours hosted by AmericInn with catering provided by Carlos O'Kellys.
X-ALT-DESC;FMTTYPE=text/html:Join us for Business After Hours hosted by AmericInn with catering provided by Carlos O&#39\;Kellys. &nbsp\;
LOCATION:AmericInn Hotel located at 215 W Talmadge Road
UID:e.1404.2243
SEQUENCE:3
DTSTAMP:20260424T155920Z
URL:https://chambermaster.kearneycoc.org/events/details/bah-americinn-carlos-o-kellys-03-21-2013-2243
END:VEVENT

END:VCALENDAR
