BEGIN:VCALENDAR
VERSION:2.0
PRODID:-//ChamberMaster//Event Calendar 2.0//EN
METHOD:PUBLISH
X-PUBLISHED-TTL:P3D
REFRESH-INTERVAL:P3D
CALSCALE:GREGORIAN
BEGIN:VEVENT
DTSTART:20140813T220000Z
DTEND:20140814T000000Z
X-MICROSOFT-CDO-ALLDAYEVENT:FALSE
SUMMARY:BAH: Archway Society
DESCRIPTION:Kickoff Event
X-ALT-DESC;FMTTYPE=text/html:Kickoff Event
LOCATION:3060 East 1st Street
UID:e.1404.5159
SEQUENCE:3
DTSTAMP:20260423T101231Z
URL:https://chambermaster.kearneycoc.org/events/details/bah-archway-society-08-13-2014-5159
END:VEVENT

END:VCALENDAR
