BEGIN:VCALENDAR
VERSION:2.0
PRODID:-//ChamberMaster//Event Calendar 2.0//EN
METHOD:PUBLISH
X-PUBLISHED-TTL:P3D
REFRESH-INTERVAL:P3D
CALSCALE:GREGORIAN
BEGIN:VEVENT
DTSTART:20210722T220000Z
DTEND:20210723T000000Z
X-MICROSOFT-CDO-ALLDAYEVENT:FALSE
SUMMARY:BAH - Buffalo County Fairgrounds
DESCRIPTION:Business After Hours & Sponsor Party in the Buffalo Corral hosted by Buffalo County Farm Bureau   Live Music with Dave Lerbakken Solo Show
X-ALT-DESC;FMTTYPE=text/html:<span style="font-family: &quot\;Open Sans&quot\;\; font-size: 18px\; background-color: rgb(243\, 234\, 225)\;">Business After Hours &amp\; Sponsor Party in the Buffalo Corral hosted by Buffalo County Farm Bureau&nbsp\;&ndash\; Live Music with Dave Lerbakken Solo Show</span>
LOCATION:in the Buffalo Corral
UID:e.1404.19350
SEQUENCE:3
DTSTAMP:20260424T060409Z
URL:https://chambermaster.kearneycoc.org/events/details/bah-buffalo-county-fairgrounds-19350
END:VEVENT

END:VCALENDAR
