BEGIN:VCALENDAR
VERSION:2.0
PRODID:-//ChamberMaster//Event Calendar 2.0//EN
METHOD:PUBLISH
X-PUBLISHED-TTL:P3D
REFRESH-INTERVAL:P3D
CALSCALE:GREGORIAN
BEGIN:VEVENT
DTSTART:20120801T220000Z
DTEND:20120802T000000Z
X-MICROSOFT-CDO-ALLDAYEVENT:FALSE
SUMMARY:BAH - Cambridge Court
DESCRIPTION:Join us for Business After Hours at Cambridge Court.  Business After Hours is the Chamber's premiere networking event
X-ALT-DESC;FMTTYPE=text/html:Join us for Business After Hours at Cambridge Court.&nbsp\; Business After Hours is the Chamber&#39\;s premiere networking event
LOCATION:Cambridge Court is located at 4107 Central Avenue
UID:e.1404.1944
SEQUENCE:3
DTSTAMP:20260425T033022Z
URL:https://chambermaster.kearneycoc.org/events/details/bah-cambridge-court-08-01-2012-1944
END:VEVENT

END:VCALENDAR
