BEGIN:VCALENDAR
VERSION:2.0
PRODID:-//ChamberMaster//Event Calendar 2.0//EN
METHOD:PUBLISH
X-PUBLISHED-TTL:P3D
REFRESH-INTERVAL:P3D
CALSCALE:GREGORIAN
BEGIN:VEVENT
DTSTART:20140321T220000Z
DTEND:20140322T000000Z
X-MICROSOFT-CDO-ALLDAYEVENT:FALSE
SUMMARY:BAH: Charter Business at the Tri-CIty Storm Game
DESCRIPTION:Join us for Charter Business's Business After Hours. They will be hosting the event and the March 21st Tri-City Storm game. There is no cost to attend Charter will be sponsoring the tickets\, all we ask is that you fill out the attached form so we can get a count!
X-ALT-DESC;FMTTYPE=text/html:Join us for Charter Business&#39\;s Business After Hours. They will be hosting the event and the March 21st Tri-City Storm game. There is no cost to attend Charter will be sponsoring the tickets\, all we ask is that you fill out the attached form so we can get a count!
LOCATION:Viaero Event Center 609 Platte Rd Kearney\, NE
UID:e.1404.4481
SEQUENCE:3
DTSTAMP:20260423T181433Z
URL:https://chambermaster.kearneycoc.org/events/details/bah-charter-business-at-the-tri-city-storm-game-03-21-2014-4481
END:VEVENT

END:VCALENDAR
