BEGIN:VCALENDAR
VERSION:2.0
PRODID:-//ChamberMaster//Event Calendar 2.0//EN
METHOD:PUBLISH
X-PUBLISHED-TTL:P3D
REFRESH-INTERVAL:P3D
CALSCALE:GREGORIAN
BEGIN:VEVENT
DTSTART:20140303T223000Z
DTEND:20140304T003000Z
X-MICROSOFT-CDO-ALLDAYEVENT:FALSE
SUMMARY:BAH-College of Business & Technology
DESCRIPTION:Diann Cattani will be speaking for Ethics Day from 6:30pm in Ponderosa Room. Appetizers and beverages will be served.
X-ALT-DESC;FMTTYPE=text/html:Diann Cattani will be speaking for Ethics Day from 6:30pm in Ponderosa Room. Appetizers and beverages will be served.&nbsp\;
LOCATION:Frank House 2010 University Dr.
UID:e.1404.3366
SEQUENCE:3
DTSTAMP:20260423T181351Z
URL:https://chambermaster.kearneycoc.org/events/details/bah-college-of-business-technology-03-03-2014-3366
END:VEVENT

END:VCALENDAR
