BEGIN:VCALENDAR
VERSION:2.0
PRODID:-//ChamberMaster//Event Calendar 2.0//EN
METHOD:PUBLISH
X-PUBLISHED-TTL:P3D
REFRESH-INTERVAL:P3D
CALSCALE:GREGORIAN
BEGIN:VEVENT
DTSTART:20160121T230000Z
DTEND:20160122T010000Z
X-MICROSOFT-CDO-ALLDAYEVENT:FALSE
SUMMARY:BAH: Complete Weddings & Events of Central Nebraska
DESCRIPTION:Come and enjoy a Business After Hours at the new Complete Weddings & Events! They have a new building and it's time to show it off! Cunningham's is catering and this is sure to be a GREAT time!
X-ALT-DESC;FMTTYPE=text/html:Come and enjoy a Business After Hours at the new Complete Weddings &amp\; Events! They have a new building and it&#39\;s time to show it off! Cunningham&#39\;s is catering and this is sure to be a GREAT time!
LOCATION:2412 Central Avenue
UID:e.1404.7062
SEQUENCE:3
DTSTAMP:20260422T064927Z
URL:https://chambermaster.kearneycoc.org/events/details/bah-complete-weddings-events-of-central-nebraska-01-21-2016-7062
END:VEVENT

END:VCALENDAR
