BEGIN:VCALENDAR
VERSION:2.0
PRODID:-//ChamberMaster//Event Calendar 2.0//EN
METHOD:PUBLISH
X-PUBLISHED-TTL:P3D
REFRESH-INTERVAL:P3D
CALSCALE:GREGORIAN
BEGIN:VEVENT
DTSTART:20160622T210000Z
DTEND:20160622T230000Z
X-MICROSOFT-CDO-ALLDAYEVENT:FALSE
SUMMARY:BAH: Eakes Office Solutions
DESCRIPTION:Join us at Eakes Office Solutions for giveaways\, food\, & refreshments. Be sure to check out everything they have to offer for your office space.
X-ALT-DESC;FMTTYPE=text/html:Join us at&nbsp\;Eakes Office Solutions&nbsp\;for giveaways\, food\, &amp\; refreshments. Be sure to&nbsp\;check out everything they have to offer for your office space.
LOCATION:2401 Ave A
UID:e.1404.7335
SEQUENCE:3
DTSTAMP:20260421T200954Z
URL:https://chambermaster.kearneycoc.org/events/details/bah-eakes-office-solutions-06-22-2016-7335
END:VEVENT

END:VCALENDAR
